BEGIN:VCALENDAR
VERSION:2.0
PRODID:-//17 Runs - ECPv6.15.20//NONSGML v1.0//EN
CALSCALE:GREGORIAN
METHOD:PUBLISH
X-WR-CALNAME:17 Runs
X-ORIGINAL-URL:https://17runs.com
X-WR-CALDESC:Events for 17 Runs
REFRESH-INTERVAL;VALUE=DURATION:PT1H
X-Robots-Tag:noindex
X-PUBLISHED-TTL:PT1H
BEGIN:VTIMEZONE
TZID:America/Vancouver
BEGIN:DAYLIGHT
TZOFFSETFROM:-0800
TZOFFSETTO:-0700
TZNAME:PDT
DTSTART:20240310T100000
END:DAYLIGHT
BEGIN:STANDARD
TZOFFSETFROM:-0700
TZOFFSETTO:-0800
TZNAME:PST
DTSTART:20241103T090000
END:STANDARD
BEGIN:DAYLIGHT
TZOFFSETFROM:-0800
TZOFFSETTO:-0700
TZNAME:PDT
DTSTART:20250309T100000
END:DAYLIGHT
BEGIN:STANDARD
TZOFFSETFROM:-0700
TZOFFSETTO:-0800
TZNAME:PST
DTSTART:20251102T090000
END:STANDARD
BEGIN:DAYLIGHT
TZOFFSETFROM:-0800
TZOFFSETTO:-0700
TZNAME:PDT
DTSTART:20260308T100000
END:DAYLIGHT
BEGIN:STANDARD
TZOFFSETFROM:-0700
TZOFFSETTO:-0800
TZNAME:PST
DTSTART:20261101T090000
END:STANDARD
END:VTIMEZONE
BEGIN:VTIMEZONE
TZID:America/Regina
BEGIN:STANDARD
TZOFFSETFROM:-0600
TZOFFSETTO:-0600
TZNAME:CST
DTSTART:20240101T000000
END:STANDARD
END:VTIMEZONE
BEGIN:VEVENT
DTSTART;TZID=America/Vancouver:20251203T130000
DTEND;TZID=America/Vancouver:20251203T140000
DTSTAMP:20260424T070034
CREATED:20251126T174119Z
LAST-MODIFIED:20251126T174354Z
UID:225747-1764766800-1764770400@17runs.com
SUMMARY:The Quiet Warrior Show Live with Tom Dutta &  Author Garnett Morris
DESCRIPTION:Join Garnet Morris\, co-author of 17 Runs: The Unbeaten Path to Unlock Life’s True Potential\, for a powerful conversation on The Quiet Warrior Show\, hosted by Tom Dutta. \n📅 Wednesday\, December 3rd\, 2025🕐 1:00 PM PST📍 Streaming live \nGarnet will share insights from 17 Runs\, a deeply personal and values-driven journey co-written with Olivia Chadwick\, focused on living with purpose\, taking bold action\, and reclaiming your life. \nYou’ll also have the chance to chat live in the studio\, ask questions\, and take part in a candid discussion about growth\, resilience\, and real transformation. \n🎧 Available as a podcast after the live stream.
URL:https://17runs.com/event/the-quiet-warrior-show-live-with-tom-dutta-author-garnett-morris/
CATEGORIES:Event
ATTACH;FMTTYPE=image/jpeg:https://17runs.com/wp-content/uploads/2025/10/Title-7.jpg
END:VEVENT
BEGIN:VEVENT
DTSTART;TZID=America/Regina:20250913T130000
DTEND;TZID=America/Regina:20250913T150000
DTSTAMP:20260424T070034
CREATED:20250909T183452Z
LAST-MODIFIED:20250910T230153Z
UID:225720-1757768400-1757775600@17runs.com
SUMMARY:Vancouver Indigo Book Signing with Garnet Morris
DESCRIPTION:We’re excited to be signing books at Indigo in Vancouver\, BC—come by to say hi or grab a signed copy! \n📅 Date: September 13\, 2025\n🕐 Time: 1:00 p.m. –3:00 p.m. PT\n📍 2505 Granville St\, Vancouver\, BC V6H 3G7\, Canada\n🧑 This signing will feature Garnet Morris only.
URL:https://17runs.com/event/vancouver-indigo-book-signing/
LOCATION:2505 Granville St\, Vancouver\, BC V6H 3G7\, Canada\, 2505 Granville St\, Vancouver\, BC\, V6H 3G7\, Canada
CATEGORIES:Event
END:VEVENT
BEGIN:VEVENT
DTSTART;TZID=America/Regina:20250913T110000
DTEND;TZID=America/Regina:20250913T130000
DTSTAMP:20260424T070034
CREATED:20250722T190053Z
LAST-MODIFIED:20250910T230418Z
UID:225689-1757761200-1757768400@17runs.com
SUMMARY:Saskatoon Indigo Book Signing with Olivia Chadwick
DESCRIPTION:We’re excited to be signing books at Indigo in Saskatoon\, SK—come by to say hi or grab a signed copy! \n📅 Date: September 13\, 2025\n🕐 Time: 11:00 a.m. –1:00 p.m. CST / 9:00 p.m.– 11:00 a.m.  PT\n📍 3322 8 St E\, Saskatoon\, SK S7H 0W4\, Canada\n👩 This signing will feature Olivia Chadwick only.
URL:https://17runs.com/event/saskatoon-indigo-book-signing/
LOCATION:Saskatoon Indigo\, 3322 8 St E\, Saskatoon\, SK\, Canada
CATEGORIES:Event
END:VEVENT
BEGIN:VEVENT
DTSTART;TZID=America/Vancouver:20250906T120000
DTEND;TZID=America/Vancouver:20250906T140000
DTSTAMP:20260424T070034
CREATED:20250722T185335Z
LAST-MODIFIED:20250730T163918Z
UID:225685-1757160000-1757167200@17runs.com
SUMMARY:Surrey Indigo Book Signing
DESCRIPTION:We’re excited to be signing books at Indigo in Surrey\, BC—come by to say hi or grab a signed copy! \n📅 Date: September 6\, 2025\n🕐 Time: 12:00 p.m. – 2:00 p.m. PT / 2:00 p.m.– 4:00 p.m.  CST\n📍 2453 161A St #10\, Surrey\, BC V3Z 0M6\, Canada
URL:https://17runs.com/event/grandview-corners-indigo-book-signing/
LOCATION:Grandview Corners Indigo\, 2453 161A St #10\, Surrey\, BC\, Canada
CATEGORIES:Event
END:VEVENT
BEGIN:VEVENT
DTSTART;TZID=America/Regina:20250823T110000
DTEND;TZID=America/Regina:20250823T130000
DTSTAMP:20260424T070034
CREATED:20250722T184409Z
LAST-MODIFIED:20250722T184409Z
UID:225682-1755946800-1755954000@17runs.com
SUMMARY:Regina Indigo Book Signing
DESCRIPTION:We’re excited to be signing books at Indigo in Regina\, SK—come by to say hi or grab a signed copy! \n📅 Date: August 23\, 2025\n🕐 Time: 11:00 a.m. –1:00 p.m. CST / 9:00 p.m.– 11:00 a.m.  PT\n📍 Southland Mall\, 2625 Gordon Rd\, Regina\, SK S4S 6H7\, Canada
URL:https://17runs.com/event/regina-indigo-book-signing/
LOCATION:Regina Indigo\, 2625 Gordon Rd\, Regina\, SK\, Canada
CATEGORIES:Event
END:VEVENT
BEGIN:VEVENT
DTSTART;TZID=America/Regina:20250611T130000
DTEND;TZID=America/Regina:20250611T134500
DTSTAMP:20260424T070034
CREATED:20250529T195230Z
LAST-MODIFIED:20250529T201006Z
UID:225593-1749646800-1749649500@17runs.com
SUMMARY:On the Couch with Dr. Michelle
DESCRIPTION:Dr. Michelle is a “relationship expert” who advises listeners about their problems by delivering an honest and caring approach.  She also puts a psychological spin on the latest news and entertainment stories and encourages people to discuss their feelings on these issues.\nDr. Michelle’s straightforward\, thoughtful\, and comedic approach\, combined with expertise in psychology\, encourages people to better understand themselves and their relationships. \n📅 Date: June 11\, 2025\n🕐 Time: 1:00–1:45 p.m. CST / 11:00–11:45  a.m. Noon PT\n📍 Listen Live: https://www.latalkradio.com/content/couch \nTune in to hear behind-the-scenes stories\, the moments that shaped the book\, and what we hope readers take away from 17 Runs.
URL:https://17runs.com/event/225593/
CATEGORIES:Event
END:VEVENT
BEGIN:VEVENT
DTSTART;TZID=America/Regina:20250604T163000
DTEND;TZID=America/Regina:20250604T173000
DTSTAMP:20260424T070034
CREATED:20250401T224412Z
LAST-MODIFIED:20250403T155824Z
UID:225235-1749054600-1749058200@17runs.com
SUMMARY:Cyrus Webb Presents
DESCRIPTION:Join Us Live on Cyrus Webb Presents! \nCyrus Webb\, media personality and Amazon Reviewer\, host of Conversations LIVE radio show\, Editor of Conversations Magazine and the tv show Cyrus Webb Presents. \nWe’re thrilled to be guests on Cyrus Webb Presents as we discuss our upcoming book\, 17 Runs—a story of grit\, growth\, and going the distance. \n📅 Date: June 4\, 2025\n🕐 Time: 4:30–5:00 p.m. CST / 2:30 p.m.– 3:00 p.m.  PT\n📍 Watch Live: http://www.cyruswebbshow.live/ \nTune in to hear behind-the-scenes stories\, the moments that shaped the book\, and what we hope readers take away from 17 Runs.
URL:https://17runs.com/event/cyrus-webb-presents/
LOCATION:Cyrus Webb Presents
CATEGORIES:Event
END:VEVENT
BEGIN:VEVENT
DTSTART;TZID=America/Regina:20250603T210000
DTEND;TZID=America/Regina:20250603T213000
DTSTAMP:20260424T070034
CREATED:20250521T165347Z
LAST-MODIFIED:20250521T165347Z
UID:225577-1748984400-1748986200@17runs.com
SUMMARY:The Donna Seebo Show
DESCRIPTION:Donna Seebo features authors and experts from around the world who share their insights with you the listening audience. Informative and fun\, this is programming for all ages. \nWe’re thrilled to be guests on the Donna Seebo Show as we discuss our upcoming book\, 17 Runs—a story of grit\, growth\, and going the distance. \n📅 Date: June 3\, 2025\n🕐 Time: 9:00–9:30 p.m. CST / 8:00 p.m.– 8:30 p.m.  PT\n📍 Listen Live:https://delphiinternational.com/donna-seebo-show/  \nTune in to hear behind-the-scenes stories\, the moments that shaped the book\, and what we hope readers take away from 17 Runs.
URL:https://17runs.com/event/the-donna-seebo-show/
CATEGORIES:Event
END:VEVENT
BEGIN:VEVENT
DTSTART;TZID=America/Regina:20250602T130000
DTEND;TZID=America/Regina:20250602T140000
DTSTAMP:20260424T070034
CREATED:20250401T221844Z
LAST-MODIFIED:20250529T193336Z
UID:225224-1748869200-1748872800@17runs.com
SUMMARY:The Positive Living Show
DESCRIPTION:Join Us Live on The Positive Living Show! \nRelationships\, health\, spirituality\, finances and community concerns\, reclaim control of all areas of your life with the power of positive thinking. Patricia Raskin and her guests will bring you practical\, positive solutions for a happy\, empowered and successful life. www.patriciaraskin.com \nWe’re thrilled to be guests on The Positive Living Show with Patricia Raskin as we discuss our upcoming book\, 17 Runs—a story of grit\, growth\, and going the distance. \n📅 Date: June 2\, 2025🕐 Time: 1:00–2:00 p.m. CST / 11:00 a.m.–Noon PT📍 Watch Live: https://sites.libsyn.com/556552 \nTune in to hear behind-the-scenes stories\, the moments that shaped the book\, and what we hope readers take away from 17 Runs.
URL:https://17runs.com/event/the-positive-living-show/
LOCATION:Positive Living Show
CATEGORIES:Event
END:VEVENT
END:VCALENDAR